BEGIN:VCALENDAR
VERSION:2.0
PRODID:spatie/icalendar-generator
DESCRIPTION:Events from The Naples Gathering
X-WR-CALDESC:Events from The Naples Gathering
REFRESH-INTERVAL;VALUE=DURATION:PT1440M
X-PUBLISHED-TTL:PT1440M
BEGIN:VTIMEZONE
TZID:Etc/GMT+0
BEGIN:STANDARD
DTSTART:20250725T110000Z
TZOFFSETFROM:+0000
TZOFFSETTO:+0000
END:STANDARD
END:VTIMEZONE
BEGIN:VTIMEZONE
TZID:UTC
BEGIN:STANDARD
DTSTART:20250725T105317Z
TZOFFSETFROM:+0000
TZOFFSETTO:+0000
END:STANDARD
END:VTIMEZONE
BEGIN:VEVENT
UID:251-172
DTSTAMP:20260421T105317Z
SUMMARY:Untitled Event
LOCATION:
ORGANIZER;CN=Yaima Salido:MAILTO:ysalidothenaplesgathering@gmail.com
RRULE:FREQ=WEEKLY;UNTIL=20260602T000000Z
DTSTART;TZID=Etc/GMT+0:20260421T110000
DTEND;TZID=Etc/GMT+0:20260421T120000
X-ALT-DESC;FMTTYPE=TEXT/HTML:
CATEGORIES:General
URL;VALUE=URI:https://thenaplesgathering.com/mc-events/untitled-event-2/?mc
 _id=251
METHOD:PUBLISH
END:VEVENT
END:VCALENDAR